BEGIN:VCALENDAR
VERSION:2.0
PRODID:-//wp-events-plugin.com//7.2.3.1//EN
TZID:Europe/Berlin
X-WR-TIMEZONE:Europe/Berlin
BEGIN:VEVENT
UID:207@quohrener-leben.de
DTSTART;TZID=Europe/Berlin:20210627T160000
DTEND;TZID=Europe/Berlin:20210627T180000
DTSTAMP:20210611T065107Z
URL:https://quohrener-leben.de/events/willkommen-in-der-flur-mit-vorsicht-
 serioes/
SUMMARY:Willkommen in der Flur mit Vorsicht Seriös
DESCRIPTION:Herzliche Einladung zum Frühlingskonzert\n„Willkommen in der
  Flur“\nmit dem Männervocalensemble\nVorsicht Seriös\n\nam Sonntag\, d
 em 27. Juni 2021 im Orthschen Gut\,\nTalstraße 30\, 01731 Kreischa Ortste
 il Quohren\nBeginn 16.00 Uhr\nBei schönem Wetter bieten wir Kuchen und Ge
 tränke im Hof an.\n\n\n[caption id="attachment_1089" align="aligncenter" 
 width="806"] Foto: A.Wohlfahrt[/caption]\n\n„Willkommen in der Flur“ -
  unter diesem Motto bringt das Männervokalensemble Vorsicht Seriös einen
  bunten musikalischen Blumenstrauß. Es erklingen Lieder von der Natur\, d
 er Liebe und geheimnisvollen Sagen. Einen besonderen Schwerpunkt bilden da
 bei Werke des österreichischen Romantikers Franz Schubert. Garniert wird 
 das Programm zum Abschluss mit beschwingter Unterhaltungsmusik\, unter and
 erem von den Comedian Harmonists und den Beatles.\n\nDie sieben ehemaligen
  Sänger des Knabenchores Dresden sowie des Dresdner Kreuzchores widmen se
 it dem Gründungsjahr 1996 nebenberuflich ihre freie Zeit dem gepflegten A
 -cappella-Gesang. Der Name „Vorsicht Seriös“ steht für ein Programm 
 geistreicher\, hintergründiger\, lustiger\, aber stets seriöser Lieder.\
 n\n&nbsp\;\n\nWegen der vielen Unsicherheiten haben wir dieses vielverspre
 chende Konzert auf Ende Juni verschoben und hoffen\, dass bis dahin die Be
 stimmungen zur Durchführung von Veranstaltungen besser sind. Aktuelle Inf
 ormationen über den Stand der Dinge geben wir auf unserer Webseite www.qu
 ohrener-leben.de bekannt.\n\n&nbsp\;\n\nWegen der Abstandsregeln und dadur
 ch begrenzter Anzahl der Sitzplätze\, bitten wir um Kartenreservierung un
 ter E-Mail: reservierung@quohrener-leben.de\n\noder bei Fam. Knepper Tel.:
  035206-21512\n\n&nbsp\;\n\nEintritt: Erwachsene 10 €\, Ermäßigt* 8 
 €\, Schüler ab 12 J. 5 €\n* Vereinsmitglieder\, Auszubildende\, Stude
 nten\n\nBitte halten Sie das Eintrittsgeld passend bereit.\nDanke für Ihr
  Verständnis. Bleiben Sie zuversichtlich und gesund!\n\nUrsula Knepper\nQ
 uohrener Leben e.V.
CATEGORIES:Konzerte/Ausstellung
END:VEVENT
BEGIN:VTIMEZONE
TZID:Europe/Berlin
X-LIC-LOCATION:Europe/Berlin
BEGIN:DAYLIGHT
DTSTART:20210328T030000
TZOFFSETFROM:+0100
TZOFFSETTO:+0200
TZNAME:CEST
END:DAYLIGHT
END:VTIMEZONE
END:VCALENDAR