BEGIN:VCALENDAR
VERSION:2.0
PRODID:-//wp-events-plugin.com//7.2.3.1//EN
TZID:Europe/Berlin
X-WR-TIMEZONE:Europe/Berlin
BEGIN:VEVENT
UID:223@quohrener-leben.de
DTSTART;TZID=Europe/Berlin:20231022T150000
DTEND;TZID=Europe/Berlin:20231022T170000
DTSTAMP:20230420T210417Z
URL:https://quohrener-leben.de/events/w-a-mozart-die-zauberfloete/
SUMMARY:„Die Zauberflöte“ des Barockensemble
DESCRIPTION:\n\n\n\nIn einer Fassung für Barockensemble und Erzählerin\
 n\nWann: 22.10.203\nUhrzeit: Beginn 16:00Uhr\, ab 15 Uhr Kaffee und Kuchen
 \nWo: Orthsches Gut\, Talstr. 30\, 01731 Kreischa\n\n\n\n
CATEGORIES:Konzerte/Ausstellung
LOCATION:Orth'sches Gut\, Talstr. 30\, Kreischa\, Sachsen\, 01731\, Deutsch
 land
GEO:50.94738;13.728160000000003
X-APPLE-STRUCTURED-LOCATION;VALUE=URI;X-ADDRESS=Talstr. 30\, Kreischa\, Sac
 hsen\, 01731\, Deutschland;X-APPLE-RADIUS=100;X-TITLE=Orth'sches Gut:geo:5
 0.94738,13.728160000000003
END:VEVENT
BEGIN:VTIMEZONE
TZID:Europe/Berlin
X-LIC-LOCATION:Europe/Berlin
BEGIN:DAYLIGHT
DTSTART:20230326T030000
TZOFFSETFROM:+0100
TZOFFSETTO:+0200
TZNAME:CEST
END:DAYLIGHT
END:VTIMEZONE
END:VCALENDAR