BEGIN:VCALENDAR
VERSION:2.0
PRODID:-//wp-events-plugin.com//7.2.3.1//EN
TZID:Europe/Berlin
X-WR-TIMEZONE:Europe/Berlin
BEGIN:VEVENT
UID:135@quohrener-leben.de
DTSTART;TZID=Europe/Berlin:20180825T150000
DTEND;TZID=Europe/Berlin:20181028T180000
DTSTAMP:20180806T055555Z
URL:https://quohrener-leben.de/events/vernissage-zur-ausstellung-malerei-u
 nd-grafik-von-eckhard-kempin/
SUMMARY:Vernissage zur Ausstellung Malerei und Grafik von Eckhard Kempin
DESCRIPTION:Schweben - Halten\n\n\nVom 25. August bis zum 28. Oktober 2018 
 sind im Orthschen Gut Bilder von Eckhard Kempin zu sehen.\n\nZu diesem The
 ma hat der in Dresden lebende Maler und Grafiker Bilder für eine Ausstell
 ung in Quohren zusammengestellt.\n\nObwohl die ausgewählten Bilder vorwie
 gend in den letzten zwei Jahren entstanden sind\, kann zur Beschreibung di
 eser Kunst zutreffend Heinz Weissflog mit einem Textauszug anlässlich ein
 er Ausstellung von Eckhard Kempin 2004 zitiert werden:\n\n„Man sieht gut
 \, wie Kempin das Gegenständliche‚ besonders die Figur nie völlig aufg
 ibt. In einem Steigen und Schweben vollführen die Figuren einen Flug in f
 erne Welten\, als Paare oder Gruppen rauschen sie durch den lichterfüllte
 n Äther seiner-Bilder. Hier kamen mir Gedanken an die „Göttliche Komö
 die“ von Dante Alighieri\, Gedanken an das Schicksal der Menschheit\, um
  das auch das Sorgen und Bangen von Kempin sich dreht. Lichtvolle Blautön
 e\, Grün und Gelb\, ein zartes\, verstecktes Violett und Rot haben nichts
  gemein mit der hier in Dresden gewachsenen Tradition in der Malerei. Gefo
 rmt hat sich die Handschrift Kempins durch die Auseinandersetzung mit der 
 Weltkunst\, mit Konstruktivismus\, analytischer Malerei\, Expressionismus\
 , Surrealismus\, Informel und Abstrakten\, vor allem aber auch der Brücke
 -Maler in Dresden. Über die in einer imaginären Landschaft dahinziehende
 n Figurinen vermittelt Kempin sein Anliegen: Die Suche der Menschheit nach
  Glück und Erlösung.“\n\nIn zahlreichen Ausstellungen im In- und Ausla
 nd wurden Eckhard Kempins Bilder schon gezeigt - nun auch in Quohren.\n\n&
 nbsp\;\n\nEckhard Kempin\n\nMalerei-Ausstellung „Schweben - Halten“\n\
 nEröffnung Sonnabend\, den 25. August 2018\nOrthsches Gut\, Talstraße 30
 \, 01731 Kreischa / OT Quohren\n15.00 Uhr        Einführung Frau So
 lvig Frey\, Dresden Joshua Jacob\, Klarinette und Philip Adam\, Gitarre\n\
 n16.30 Uhr        „Bühne des Lebens“ Geschichten-Lieder zur Gi
 tarre\nHans-Jürgen Andersen / Liedermacher und Maler\, Dresden\nDafür wi
 rd ein Unkostenbeitrag von 5\,00 € erbeten.\n\nDie Ausstellung kann im R
 ahmen der Veranstaltungen im Orthschen Gut im genannten Zeitraum besucht w
 erden:\n\nSeptember 16.00 Uhr Kaspertheater „Die gestohlenen Pfannekuche
 n“\n12.September ab 14.00Uhr  Kreischaer Kulturnachmittag mit Künstler
 gespräch im Vereinshaus Kreischa und Ausstellungsbesuch in Quohren\nOktob
 er 17.00Uhr Jubiläumskonzert Helene Blum/ Harald Haugaard und Band\n\nund
  unabhängig davon in Abstimmung mit Fam. Knepper (Tel. 035206 21512).\n\n
 Ursula Knepper\n\n&gt\;&gt\;Informationen zur Veranstaltung als PDF herunt
 erladen&lt\;&lt\;\n\n&nbsp\;
CATEGORIES:Konzerte/Ausstellung
LOCATION:Orth'sches Gut\, Talstr. 30\, Kreischa\, Sachsen\, 01731\, Deutsch
 land
GEO:50.94738;13.728160000000003
X-APPLE-STRUCTURED-LOCATION;VALUE=URI;X-ADDRESS=Talstr. 30\, Kreischa\, Sac
 hsen\, 01731\, Deutschland;X-APPLE-RADIUS=100;X-TITLE=Orth'sches Gut:geo:5
 0.94738,13.728160000000003
END:VEVENT
BEGIN:VTIMEZONE
TZID:Europe/Berlin
X-LIC-LOCATION:Europe/Berlin
BEGIN:DAYLIGHT
DTSTART:20180325T030000
TZOFFSETFROM:+0100
TZOFFSETTO:+0200
TZNAME:CEST
END:DAYLIGHT
BEGIN:STANDARD
DTSTART:20181028T020000
TZOFFSETFROM:+0200
TZOFFSETTO:+0100
TZNAME:CET
END:STANDARD
END:VTIMEZONE
END:VCALENDAR