BEGIN:VCALENDAR
VERSION:2.0
PRODID:-//wp-events-plugin.com//7.2.3.1//EN
TZID:Europe/Berlin
X-WR-TIMEZONE:Europe/Berlin
BEGIN:VEVENT
UID:150@quohrener-leben.de
DTSTART;TZID=Europe/Berlin;VALUE=DATE:20190505
DTEND;TZID=Europe/Berlin;VALUE=DATE:20190506
DTSTAMP:20190310T164937Z
URL:https://quohrener-leben.de/events/vereinsausflug-2019/
SUMMARY:Vereinsausflug 2019
DESCRIPTION:Die Mitlgleider des Vereins machen einen Ausflug.
CATEGORIES:Vereinsaktivität
LOCATION:Wanderkarte Quohren\, Kipsenstr 2\, Kreischa\, 01731\, Deutschland
GEO:50.9457;13.731780000000072
X-APPLE-STRUCTURED-LOCATION;VALUE=URI;X-ADDRESS=Kipsenstr 2\, Kreischa\, 01
 731\, Deutschland;X-APPLE-RADIUS=100;X-TITLE=Wanderkarte Quohren:geo:50.94
 57,13.731780000000072
END:VEVENT
BEGIN:VTIMEZONE
TZID:Europe/Berlin
X-LIC-LOCATION:Europe/Berlin
BEGIN:DAYLIGHT
DTSTART:20190331T030000
TZOFFSETFROM:+0100
TZOFFSETTO:+0200
TZNAME:CEST
END:DAYLIGHT
END:VTIMEZONE
END:VCALENDAR