BEGIN:VCALENDAR
VERSION:2.0
PRODID:-//wp-events-plugin.com//7.2.3.1//EN
TZID:Europe/Berlin
X-WR-TIMEZONE:Europe/Berlin
BEGIN:VEVENT
UID:80@quohrener-leben.de
DTSTART;TZID=Europe/Berlin:20150403T093000
DTEND;TZID=Europe/Berlin:20150403T150000
DTSTAMP:20170109T203712Z
URL:https://quohrener-leben.de/events/traditionelle-osterwanderung-3/
SUMMARY:Traditionelle Osterwanderung
DESCRIPTION:Treffpunkt: 09.30 Uhr Kreuzung Talstraße / Am Wasserbehälter 
 oder 09.40 Uhr Bushaltestelle "Abzweig nach Quohren" Fahrtrichtung Kreisch
 a \nStrecke: Busfahrt bis Haltestelle Fußweg nach Borthen anschließend W
 anderung über Borthen nach Gombsen und weiter über den Mühlenweg und de
 n Gang um die Welt zurück nach Kreischa bzw. Quohren.\nWegstrecke ca. 10 
 km\, kinderwagentauglich\nVerpflegung: Mittagsimbiss am Grill in Gombsen\n
 Hinweis: Vorhandene Zeitkarten für die Tarifzone Freital bitte mitbringen
 \n
CATEGORIES:Vereinsaktivität
END:VEVENT
BEGIN:VTIMEZONE
TZID:Europe/Berlin
X-LIC-LOCATION:Europe/Berlin
BEGIN:DAYLIGHT
DTSTART:20150329T030000
TZOFFSETFROM:+0100
TZOFFSETTO:+0200
TZNAME:CEST
END:DAYLIGHT
END:VTIMEZONE
END:VCALENDAR