BEGIN:VCALENDAR
VERSION:2.0
PRODID:-//wp-events-plugin.com//7.2.3.1//EN
TZID:Europe/Berlin
X-WR-TIMEZONE:Europe/Berlin
BEGIN:VEVENT
UID:19@quohrener-leben.de
DTSTART;TZID=Europe/Berlin:20120923T140000
DTEND;TZID=Europe/Berlin:20120923T160000
DTSTAMP:20170107T000212Z
URL:https://quohrener-leben.de/events/traditionelle-herbstwanderung/
SUMMARY:Traditionelle Herbstwanderung
DESCRIPTION:Treffpunkt: 14:00 Uhr an der Wanderkarte Kipsenstraße
CATEGORIES:Vereinsaktivität
END:VEVENT
BEGIN:VTIMEZONE
TZID:Europe/Berlin
X-LIC-LOCATION:Europe/Berlin
BEGIN:DAYLIGHT
DTSTART:20120325T030000
TZOFFSETFROM:+0100
TZOFFSETTO:+0200
TZNAME:CEST
END:DAYLIGHT
END:VTIMEZONE
END:VCALENDAR