BEGIN:VCALENDAR
VERSION:2.0
PRODID:-//wp-events-plugin.com//7.2.3.1//EN
TZID:Europe/Berlin
X-WR-TIMEZONE:Europe/Berlin
BEGIN:VEVENT
UID:221@quohrener-leben.de
DTSTART;TZID=Europe/Berlin:20230521T160000
DTEND;TZID=Europe/Berlin:20230521T170000
DTSTAMP:20230420T212536Z
URL:https://quohrener-leben.de/events/tom-daun-die-harfe-im-serail/
SUMMARY:Tom Daun „Die Harfe im Serail“
DESCRIPTION:\n\n\n\nKonzert mit dem Harfenisten\nTom Daun aus Solingen\n„
 Die Harfe im Serail“\nKlänge aus Tausendundeiner Nacht\n\nWann: 21.05.2
 023\nUhrzeit: 16:00Uhr ab 15:00Uhr Kaffee und Kuchen\nWo: Orthsches Gut\, 
 Talstr. 30\, 01731 Kreischa\n\n[caption id="attachment_1210" align="alignc
 enter" width="806"] Foto Frank Reimann[/caption]\n\nIn der Welt des Orient
 s zählte die Harfe lange zu den wichtigsten Instrumenten. Zum sanften Kla
 ng der Ҫang ließ sich der Sultan verwöhnen. Lange Zeit war es nur Fraue
 n erlaubt\, ihre Saiten zu streicheln. Erst im Laufe der Jahrhunderte wurd
 e die Ҫang von der arabischen Oud-Laute verdrängt.\nTom Daun entführt i
 ns Serail und in die märchenhafte Klangwelt des Orients: Kompositionen vo
 m osmanischen Hof\, arabische und persische Volksmelodien\, Musik der sefa
 rdischen Juden und Klänge aus „Al Andalus“ – dem mittelalterlichen 
 Spanien. Ergänzt wird das Programm durch abendländische Charakterstücke
  zwischen Barock und Impressionismus – inspiriert von orientalischen Pha
 ntasien und Sehnsüchten.\nPressetext Tom Daun\nEintritt: Erwachsene 15 
 €\,\nErmäßigt (Vereinsmitglieder\, Auszubildende\, Studenten) 12 €\,
 \nKinder bis 13 J. frei\, Schüler ab 14 J. 8 €\n\nKatenvorverkauf: Bür
 gerstiftung Kreischa\, Haußmannplatz 5\nKartenreservierung unter E-Mail: 
 reservierung@quohrener-leben.de\noder bei Fam. Knepper Tel.: 035206-21512\
 n\nWir freuen uns über Ihren Besuch\n\n\n\n
CATEGORIES:Konzerte/Ausstellung
LOCATION:Orth'sches Gut\, Talstr. 30\, Kreischa\, Sachsen\, 01731\, Deutsch
 land
GEO:50.94738;13.728160000000003
X-APPLE-STRUCTURED-LOCATION;VALUE=URI;X-ADDRESS=Talstr. 30\, Kreischa\, Sac
 hsen\, 01731\, Deutschland;X-APPLE-RADIUS=100;X-TITLE=Orth'sches Gut:geo:5
 0.94738,13.728160000000003
END:VEVENT
BEGIN:VTIMEZONE
TZID:Europe/Berlin
X-LIC-LOCATION:Europe/Berlin
BEGIN:DAYLIGHT
DTSTART:20230326T030000
TZOFFSETFROM:+0100
TZOFFSETTO:+0200
TZNAME:CEST
END:DAYLIGHT
END:VTIMEZONE
END:VCALENDAR