BEGIN:VCALENDAR
VERSION:2.0
PRODID:-//wp-events-plugin.com//7.2.3.1//EN
TZID:Europe/Berlin
X-WR-TIMEZONE:Europe/Berlin
BEGIN:VEVENT
UID:226@quohrener-leben.de
DTSTART;TZID=Europe/Berlin:20230422T090000
DTEND;TZID=Europe/Berlin:20230422T120000
DTSTAMP:20230420T205917Z
URL:https://quohrener-leben.de/events/ran-an-den-dreck-arbeitseinsatz-viel
 e-fleissige-helfer-gesucht-2/
SUMMARY:Ran an den Dreck -  Arbeitseinsatz  - viele fleißige Helfer gesuch
 t
DESCRIPTION:Säuberung der Wanderwege um Quohren\,Reparaturarbeiten\nTreffp
 unkt: 9:00 Uhr an der ehemaligen Turnhalle (Kipsenstr.)
CATEGORIES:Vereinsaktivität
LOCATION:Alter Sportplatz Quohren\, Kipsenstr 2a\, Quohren\, 01731\, Deutsc
 hland
GEO:50.9457;13.731780000000072
X-APPLE-STRUCTURED-LOCATION;VALUE=URI;X-ADDRESS=Kipsenstr 2a\, Quohren\, 01
 731\, Deutschland;X-APPLE-RADIUS=100;X-TITLE=Alter Sportplatz Quohren:geo:
 50.9457,13.731780000000072
END:VEVENT
BEGIN:VTIMEZONE
TZID:Europe/Berlin
X-LIC-LOCATION:Europe/Berlin
BEGIN:DAYLIGHT
DTSTART:20230326T030000
TZOFFSETFROM:+0100
TZOFFSETTO:+0200
TZNAME:CEST
END:DAYLIGHT
END:VTIMEZONE
END:VCALENDAR