BEGIN:VCALENDAR
VERSION:2.0
PRODID:-//wp-events-plugin.com//7.2.3.1//EN
TZID:Europe/Berlin
X-WR-TIMEZONE:Europe/Berlin
BEGIN:VEVENT
UID:154@quohrener-leben.de
DTSTART;TZID=Europe/Berlin:20190908T160000
DTEND;TZID=Europe/Berlin:20190908T173000
DTSTAMP:20190816T052644Z
URL:https://quohrener-leben.de/events/puppenspiel-rumpelstilzchen/
SUMMARY:Puppenspiel Rumpelstilzchen
DESCRIPTION:„Rumpelstilzchen"\nEine Puppentheaterinszenierung von und mit
  Jörg Schmidt für die ganze Familie\n\nAm Sonntag\, dem 8. September 201
 9 im Orthschen Gut\,\nTalstraße 30\, 01731 Kreischa\, Ortsteil Quohren\,\
 nBeginn 16.00 Uhr\,\nEinlass ab 15.00 Uhr mit Kaffee und Kuchen\n\n[captio
 n id="attachment_926" align="alignnone" width="904"] 8.9.2019 Rumpelstilzc
 hen[/caption]\n\nEin magischer Würfel aus dem die Bühnenbilder entstehen
 \, Scheinwerfer\, Puppen und natürlich das Publikum - schon kann es losge
 hen.\nDa gibt es einen armen Müller\, welcher trotz seiner Armut nur das 
 Beste für seine Tochter will. Dennoch können sie sich nur begrenzt die D
 inge des täglichen Lebens leisten. Es ist des Müllers einzige Tochter. E
 r würde alles für sie tun\, um eine Verbesserung ihrer schlechten Lage z
 u erreichen. Wenn es sein muss auch mit Lügen. Und so kommt es dann auch.
  Er prahlt im ganzen Land von seiner außergewöhnlichen Tochter\, die doc
 h etwas ganz Besonderes kann. Eines Tages erfährt der König von dieser h
 ochbegabten Frau und die Geschichte nimmt ihren Lauf.           
                                      
                                      
                                      
                     Pressetext Jörg Schmidt\n\nEintrit
 t:  Kinder 4 €\,  Erwachsene 7 €\n\nKartenreservierung:  E-Mail  r
 eservierung@quohrener-leben.de\nund Fam. Knepper Tel.: 035206-21512\n\n&gt
 \;&gt\;8.9.2019 Puppentheater Rumpelstilzchen&lt\;&lt\;
CATEGORIES:Konzerte/Ausstellung
LOCATION:Orth'sches Gut\, Talstr. 30\, Kreischa\, Sachsen\, 01731\, Deutsch
 land
GEO:50.94738;13.728160000000003
X-APPLE-STRUCTURED-LOCATION;VALUE=URI;X-ADDRESS=Talstr. 30\, Kreischa\, Sac
 hsen\, 01731\, Deutschland;X-APPLE-RADIUS=100;X-TITLE=Orth'sches Gut:geo:5
 0.94738,13.728160000000003
END:VEVENT
BEGIN:VTIMEZONE
TZID:Europe/Berlin
X-LIC-LOCATION:Europe/Berlin
BEGIN:DAYLIGHT
DTSTART:20190331T030000
TZOFFSETFROM:+0100
TZOFFSETTO:+0200
TZNAME:CEST
END:DAYLIGHT
END:VTIMEZONE
END:VCALENDAR