BEGIN:VCALENDAR
VERSION:2.0
PRODID:-//wp-events-plugin.com//7.2.3.1//EN
TZID:Europe/Berlin
X-WR-TIMEZONE:Europe/Berlin
BEGIN:VEVENT
UID:112@quohrener-leben.de
DTSTART;TZID=Europe/Berlin:20170415T173000
DTEND;TZID=Europe/Berlin:20170415T220000
DTSTAMP:20170203T202513Z
URL:https://quohrener-leben.de/events/osterfeuer-2017/
SUMMARY:Osterfeuer 2017
DESCRIPTION:Das tradionelle Osterfeuer findet dieses Jahr das erste Mal in 
 der neuen Feuerschale statt.\n\nFür das leibliche Wohl ist mit Bratwurst 
 und Getränken gesorgt.
CATEGORIES:Vereinsaktivität
LOCATION:Alter Sportplatz Quohren\, Kipsenstr 2a\, Quohren\, 01731\, Deutsc
 hland
GEO:50.9457;13.731780000000072
X-APPLE-STRUCTURED-LOCATION;VALUE=URI;X-ADDRESS=Kipsenstr 2a\, Quohren\, 01
 731\, Deutschland;X-APPLE-RADIUS=100;X-TITLE=Alter Sportplatz Quohren:geo:
 50.9457,13.731780000000072
END:VEVENT
BEGIN:VTIMEZONE
TZID:Europe/Berlin
X-LIC-LOCATION:Europe/Berlin
BEGIN:DAYLIGHT
DTSTART:20170326T030000
TZOFFSETFROM:+0100
TZOFFSETTO:+0200
TZNAME:CEST
END:DAYLIGHT
END:VTIMEZONE
END:VCALENDAR