BEGIN:VCALENDAR
VERSION:2.0
PRODID:-//wp-events-plugin.com//7.2.3.1//EN
TZID:Europe/Berlin
X-WR-TIMEZONE:Europe/Berlin
BEGIN:VEVENT
UID:6@quohrener-leben.de
DTSTART;TZID=Europe/Berlin:20120406T190000
DTEND;TZID=Europe/Berlin:20120406T220000
DTSTAMP:20161231T013213Z
URL:https://quohrener-leben.de/events/oster-abendessen/
SUMMARY:Oster-Abendessen
DESCRIPTION:Abendessen im Chinarestaurant „Sonne“
END:VEVENT
BEGIN:VTIMEZONE
TZID:Europe/Berlin
X-LIC-LOCATION:Europe/Berlin
BEGIN:DAYLIGHT
DTSTART:20120325T030000
TZOFFSETFROM:+0100
TZOFFSETTO:+0200
TZNAME:CEST
END:DAYLIGHT
END:VTIMEZONE
END:VCALENDAR