BEGIN:VCALENDAR
VERSION:2.0
PRODID:-//wp-events-plugin.com//7.2.3.1//EN
TZID:Europe/Berlin
X-WR-TIMEZONE:Europe/Berlin
BEGIN:VEVENT
UID:215@quohrener-leben.de
DTSTART;TZID=Europe/Berlin:20220925T160000
DTEND;TZID=Europe/Berlin:20220925T170000
DTSTAMP:20220902T163431Z
URL:https://quohrener-leben.de/events/marionettenspiel-mit-joerg-schmidt-h
 aensel-gretel/
SUMMARY:Marionettenspiel Hänsel & Gretel
DESCRIPTION:Es war einmal ein armer Holzfäller mit seiner Frau und seinen 
 zwei Kindern\, Hänsel und Gretel…\nSo\, oder so ähnlich beginnt das al
 tbekannte Märchen von den beiden Kindern\, welche im Wald ausgesetzt wurd
 en und ihren Weg mit Hürden und Prüfungen allein bestreiten mussten. Lie
 bevoll gestaltete Marionetten von Udo Schneeweiß\, zweistimmiger Gesang\,
  untermalt mit einfühlsamer Gitarren- und Mundharmonika-Musik\, erzählen
  zwei auf dem Bahnhof Gestrandete\, diese Geschichte neu. Zur besten Unter
 haltung für die ganze Familie\, mit Witz\, Spielfreude und einer Portion 
 Charme.\nAuch für Kindergartenkinder ist diese Inszenierung bestens geeig
 net.\n\n\n\nDauer: 50 Minuten\nPuppenbau: Udo Schneeweiß\nSpiel: Evelyn B
 ärmann / Jörg Schmid\nText &amp\; Regie: Jörg Schmidt Pressetext Jörg 
 Schmidt\n\nEintritt: Kinder 8 €\, Erwachsene 10 €\n\nKatenvorverkauf: 
 Bürgerstiftung Kreischa\, Haußmannplatz 5\nKartenreservierung: E-Mail re
 servierung@quohrener-leben.de\nund Fam. Knepper Tel.: 035206-21512\nUrsula
  Knepper\n\nWo: Orthschen Gut\nWann: 25.09.2022\nEinlass ab 15:00 Uhr mit 
 Kaffeetrinken  Beginn: 16:00 Uhr
CATEGORIES:Konzerte/Ausstellung
LOCATION:Orth'sches Gut\, Talstr. 30\, Kreischa\, Sachsen\, 01731\, Deutsch
 land
GEO:50.94738;13.728160000000003
X-APPLE-STRUCTURED-LOCATION;VALUE=URI;X-ADDRESS=Talstr. 30\, Kreischa\, Sac
 hsen\, 01731\, Deutschland;X-APPLE-RADIUS=100;X-TITLE=Orth'sches Gut:geo:5
 0.94738,13.728160000000003
END:VEVENT
BEGIN:VTIMEZONE
TZID:Europe/Berlin
X-LIC-LOCATION:Europe/Berlin
BEGIN:DAYLIGHT
DTSTART:20220327T030000
TZOFFSETFROM:+0100
TZOFFSETTO:+0200
TZNAME:CEST
END:DAYLIGHT
END:VTIMEZONE
END:VCALENDAR