BEGIN:VCALENDAR
VERSION:2.0
PRODID:-//wp-events-plugin.com//7.2.3.1//EN
TZID:Europe/Berlin
X-WR-TIMEZONE:Europe/Berlin
BEGIN:VEVENT
UID:149@quohrener-leben.de
DTSTART;TZID=Europe/Berlin:20190427T090000
DTEND;TZID=Europe/Berlin:20190427T120000
DTSTAMP:20190310T164831Z
URL:https://quohrener-leben.de/events/mach-mit-arbeitseinsatz-2019/
SUMMARY:Mach mit! - Arbeitseinsatz 2019
DESCRIPTION:Mach mit! - Arbeitseinsatz -\nSäuberung der Wanderwege in und 
 um Quohren\n\nWann: 27.04.2019\nZeit: 9:00 - 12:00 Uhr\nTreffpunkt: Sportp
 latz\n\nJeder der Quohren sauber halten möchte kann uns unterstützen.\nF
 olgende Arbeiten sind geplant:\n\n 	Säuberung der Wege Richtung Bushaltes
 telle\, Richtung Kreischa bis Ortsausgang\, Kipsenstraße\, Wasserbehälte
 r\n\nMittags ist für die Versorgung mit Essen und Getränke für die Helf
 er gesichert.
CATEGORIES:Vereinsaktivität
LOCATION:Alter Sportplatz Quohren\, Kipsenstr 2a\, Quohren\, 01731\, Deutsc
 hland
GEO:50.9457;13.731780000000072
X-APPLE-STRUCTURED-LOCATION;VALUE=URI;X-ADDRESS=Kipsenstr 2a\, Quohren\, 01
 731\, Deutschland;X-APPLE-RADIUS=100;X-TITLE=Alter Sportplatz Quohren:geo:
 50.9457,13.731780000000072
END:VEVENT
BEGIN:VTIMEZONE
TZID:Europe/Berlin
X-LIC-LOCATION:Europe/Berlin
BEGIN:DAYLIGHT
DTSTART:20190331T030000
TZOFFSETFROM:+0100
TZOFFSETTO:+0200
TZNAME:CEST
END:DAYLIGHT
END:VTIMEZONE
END:VCALENDAR