BEGIN:VCALENDAR
VERSION:2.0
PRODID:-//wp-events-plugin.com//7.2.3.1//EN
TZID:Europe/Berlin
X-WR-TIMEZONE:Europe/Berlin
BEGIN:VEVENT
UID:156@quohrener-leben.de
DTSTART;TZID=Europe/Berlin:20191206T000000
DTEND;TZID=Europe/Berlin:20191206T000000
DTSTAMP:20190310T170335Z
URL:https://quohrener-leben.de/events/lebendiger-advendskalender-2019/
SUMMARY:Lebendiger Advendskalender 2019
DESCRIPTION:Lebendiger Advendskalender\n\nWann: 06.12.2019\nWo: Orthches Gu
 t\n\nWeitere Informationen werden noch bekannt gegeben.
CATEGORIES:Vereinsaktivität
LOCATION:Orth'sches Gut\, Talstr. 30\, Kreischa\, Sachsen\, 01731\, Deutsch
 land
GEO:50.94738;13.728160000000003
X-APPLE-STRUCTURED-LOCATION;VALUE=URI;X-ADDRESS=Talstr. 30\, Kreischa\, Sac
 hsen\, 01731\, Deutschland;X-APPLE-RADIUS=100;X-TITLE=Orth'sches Gut:geo:5
 0.94738,13.728160000000003
END:VEVENT
BEGIN:VTIMEZONE
TZID:Europe/Berlin
X-LIC-LOCATION:Europe/Berlin
BEGIN:STANDARD
DTSTART:20191027T020000
TZOFFSETFROM:+0200
TZOFFSETTO:+0100
TZNAME:CET
END:STANDARD
END:VTIMEZONE
END:VCALENDAR