BEGIN:VCALENDAR
VERSION:2.0
PRODID:-//wp-events-plugin.com//7.2.3.1//EN
TZID:Europe/Berlin
X-WR-TIMEZONE:Europe/Berlin
BEGIN:VEVENT
UID:220@quohrener-leben.de
DTSTART;TZID=Europe/Berlin:20230527T100000
DTEND;TZID=Europe/Berlin:20230529T180000
DTSTAMP:20230420T205010Z
URL:https://quohrener-leben.de/events/kreischaer-bilderbogen/
SUMMARY:„Kunst:offen in Sachsen“ - Kreischaer Bilderbogen
DESCRIPTION:\n\n\n\n„Kunst:offen in Sachsen“\nKreischaer Laienkünstle
 r\nMalerei\, Gafik\, Kollagen\, Fotografie\n\n\n\n\nEine Gemeinschaftsauss
 tellung von mehr als\nzwanzig Laienkünstlern aus Kreischa und den Ortstei
 len\nim Rahmen der 19. Kunst:offen in Sachsen\n\nPfingsten 2023\nOrthsches
  Gut\nTalstraße 30\, 01731 Kreischa OT Quohren\n\nEröffnung: Sonnabend\,
  27.05.2023\, 11 Uhr mit dem Gitarrenduo “SaitenBlick“\nÖffnungszeite
 n: Pfingstsonnabend bis -montag\, jeweils von 10 bis 18 Uhr\n\n[caption id
 ="attachment_1209" align="alignleft" width="300"] Foto Ursula Knepper[/cap
 tion]\n\nDas Projekt einer Gemeinschaftsausstellung von Kreischaer Laienk
 ünstlern\, die Lust am Gestalten haben\, immer wieder Neues schaffen und 
 das auch gerne mal zeigen\, ist unter erfreulich großer Beteiligung wiede
 r zustande gekommen. Sechs Jahre sind bereits vergangen\, als zu Pfingsten
  2017 im Orthschen Gut mehr als 50 Arbeiten in einer gelungenen Gesamtscha
 u zu sehen waren.\n\nPlanen Sie gerne bei einem Pfingstausflug Ende Mai 20
 23 das Orthsche Gut in Quohren mit ein\, um den „Kreischaer Bilderbogen
 “ kennen zu lernen.\n\n&nbsp\;\n\n&nbsp\;\n\n&nbsp\;\n\n&nbsp\;\n\nUrsul
 a Knepper
CATEGORIES:Konzerte/Ausstellung
LOCATION:Orth'sches Gut\, Talstr. 30\, Kreischa\, Sachsen\, 01731\, Deutsch
 land
GEO:50.94738;13.728160000000003
X-APPLE-STRUCTURED-LOCATION;VALUE=URI;X-ADDRESS=Talstr. 30\, Kreischa\, Sac
 hsen\, 01731\, Deutschland;X-APPLE-RADIUS=100;X-TITLE=Orth'sches Gut:geo:5
 0.94738,13.728160000000003
END:VEVENT
BEGIN:VTIMEZONE
TZID:Europe/Berlin
X-LIC-LOCATION:Europe/Berlin
BEGIN:DAYLIGHT
DTSTART:20230326T030000
TZOFFSETFROM:+0100
TZOFFSETTO:+0200
TZNAME:CEST
END:DAYLIGHT
END:VTIMEZONE
END:VCALENDAR