BEGIN:VCALENDAR
VERSION:2.0
PRODID:-//wp-events-plugin.com//7.2.3.1//EN
TZID:Europe/Berlin
X-WR-TIMEZONE:Europe/Berlin
BEGIN:VEVENT
UID:110@quohrener-leben.de
DTSTART;TZID=Europe/Berlin:20170402T170000
DTEND;TZID=Europe/Berlin:20170402T190000
DTSTAMP:20170203T201821Z
URL:https://quohrener-leben.de/events/geschichten-am-kamin-teil-ii/
SUMMARY:Geschichten am Kamin Teil II
DESCRIPTION:Geschichten am Kamin Teil II mit Wilfried Schneider
CATEGORIES:Konzerte/Ausstellung,Vereinsaktivität
LOCATION:Orth'sches Gut\, Talstr. 30\, Kreischa\, Sachsen\, 01731\, Deutsch
 land
GEO:50.94738;13.728160000000003
X-APPLE-STRUCTURED-LOCATION;VALUE=URI;X-ADDRESS=Talstr. 30\, Kreischa\, Sac
 hsen\, 01731\, Deutschland;X-APPLE-RADIUS=100;X-TITLE=Orth'sches Gut:geo:5
 0.94738,13.728160000000003
END:VEVENT
BEGIN:VTIMEZONE
TZID:Europe/Berlin
X-LIC-LOCATION:Europe/Berlin
BEGIN:DAYLIGHT
DTSTART:20170326T030000
TZOFFSETFROM:+0100
TZOFFSETTO:+0200
TZNAME:CEST
END:DAYLIGHT
END:VTIMEZONE
END:VCALENDAR