BEGIN:VCALENDAR
VERSION:2.0
PRODID:-//wp-events-plugin.com//7.2.3.1//EN
TZID:Europe/Berlin
X-WR-TIMEZONE:Europe/Berlin
BEGIN:VEVENT
UID:129@quohrener-leben.de
DTSTART;TZID=Europe/Berlin:20180522T150000
DTEND;TZID=Europe/Berlin:20180525T180000
DTSTAMP:20180419T135953Z
URL:https://quohrener-leben.de/events/fortsetzung-der-ausstellung-im-orths
 chen-gut/
SUMMARY:Fortsetzung der Ausstellung im Orthschen Gut
DESCRIPTION:Anlässlich KunstOffen in Sachsen zu Pfingsten 2018 und eine Wo
 che danach wird im Orthschen Gut auf vielfältige Weise Kultur präsentier
 t und zu erleben sein. Den Rahmen bildet die Ausstellung\n\nBlicksuche\nMa
 lerei\, Grafik &amp\; anderes\nSilvia Jaretzki und Ursula Schlesing\n\n&nb
 sp\;\n\nNähere Information erhalten Sie im Artikel zu KunstOffen in Sachs
 en 2018 oder im PDF Information zu KunstOffen in Sachsen 2018 als Download
 .
CATEGORIES:Konzerte/Ausstellung
LOCATION:Orth'sches Gut\, Talstr. 30\, Kreischa\, Sachsen\, 01731\, Deutsch
 land
GEO:50.94738;13.728160000000003
X-APPLE-STRUCTURED-LOCATION;VALUE=URI;X-ADDRESS=Talstr. 30\, Kreischa\, Sac
 hsen\, 01731\, Deutschland;X-APPLE-RADIUS=100;X-TITLE=Orth'sches Gut:geo:5
 0.94738,13.728160000000003
END:VEVENT
BEGIN:VTIMEZONE
TZID:Europe/Berlin
X-LIC-LOCATION:Europe/Berlin
BEGIN:DAYLIGHT
DTSTART:20180325T030000
TZOFFSETFROM:+0100
TZOFFSETTO:+0200
TZNAME:CEST
END:DAYLIGHT
END:VTIMEZONE
END:VCALENDAR