BEGIN:VCALENDAR
VERSION:2.0
PRODID:-//wp-events-plugin.com//7.2.3.1//EN
TZID:Europe/Berlin
X-WR-TIMEZONE:Europe/Berlin
BEGIN:VEVENT
UID:209@quohrener-leben.de
DTSTART;TZID=Europe/Berlin:20211010T170000
DTEND;TZID=Europe/Berlin:20211010T183000
DTSTAMP:20210815T132933Z
URL:https://quohrener-leben.de/events/duo-froeken-schultze-nyckelharpa/
SUMMARY:Duo Fröken Schultze Nyckelharpa
DESCRIPTION:Herzliche Einladung zum Konzert\nmit dem Duo Fröken Schultze\n
 Nyckelharpa\nam Sonntag\, dem 10. Oktober 2021 im Orthschen Gut\,\nTalstra
 ße 30\, 01731 Kreischa Ortsteil Quohren\nBeginn 17.00 Uhr\nBei schönem W
 etter bieten wir ab 16.00 Uhr Getränke\, Kuchen und Schnittchen im Hof an
 .\n\n\n[caption id="attachment_1112" align="aligncenter" width="600"] Foto
 : Fröken Schultze[/caption]\n\nProf. Dr. Jan Ling\, Schweden 2011:\nDie N
 yckelharpa - „...ist nicht länger ein verschwindendes Relikt aus einer 
 kleinen Region in Schweden\, sondern eine lebendige Kraft im Chor der Musi
 k aus verschiedenen Teilen der Welt. Stimmen\, die zusammen Hoffnung geben
  für eine gute Zukunft der Menschheit.“\n\nDie Nyckelharpa \n\nDie aus 
 dem Mittelalter stammende Nyckelharpa (Schlüsselfidel) verschwand im Frü
 hbarock aus den heimischen Gefilden und überlebte in Schweden als beliebt
 es Folkinstrument die Jahrhunderte. Sie ist ein Streichinstrument mit eine
 r Tastatur\, ähnlich der Drehleier.\n\nDie 4 Melodiesaiten werden mit ein
 em Bogen gestrichen. Ihren silbrigen\, vollen Klang verdankt die Nyckelhar
 pa den 12 Resonanzsaiten\, die stetig mitschwingen.\n\nDie erste Bildquell
 e einer Nyckelharpa\, oder Schlüsselfidel\, erscheint ca. 1350 in Schwede
 n. Bereits 1408 malt Taddeo di Bartolo in Sienna ein Fresco mit einer Fide
 l mit Tasten. Von da an gibt es mehrere Nachweise dieses ungewöhnlichen I
 nstrumentes\, hauptsächlich auf der Achse Schweden-Italien. Mit Beginn de
 s Barocks und dem Siegeszug der Violine verschwindet die Nyckelharpa aus K
 ontinentaleuropa und überlebt nur in einer kleinen Region in der Mitte Sc
 hwedens.\n\nDas Konzertprogramm\n\nAnhand dieser Zeitlinie reist das Duo F
 röken Schultze vom ersten Erscheinen der Nyckelharpa bis in die heutige Z
 eit mit Musik und Geschichten. Folk aus Schweden wechselt sich ab mit ital
 ienischer Renaissance Musik\, mittelalterliche Tänze und Barockmusik aus 
 Deutschland und England. Kompositionen aus der Klassik bis in die Moderne 
 runden das Programm ab.\n\nDie Musikerinnen\n\nDie beiden Musikerinnen Chr
 istiane Hanna Luft (Leipzig) und Caterina Other (Quohren) lernten sich bei
  einem Nyckelharpatreffen 2012 kennen und spielen seitdem zusammen. Beide 
 genossen bereits in der Schulzeit eine fundierte Ausbildung an der Violine
 . Als Absolventinnen des Europäischen Nyckelharpa Trainings und Kursen/Ma
 sterclasses für traditionellen schwedischen Folk und für Alte Musik gebe
 n sie Konzerte in verschiedenen Ensembles\, z.B. Nyckelharpa Trio\, Tworna
 \, Strömkarlen.\n\nCaterina Other ist als Quohrnerin durch verschiedene K
 onzerte im Orthschen Gut mit Ihrem Musizieren auf der Nyckelharpa bereits 
 vielen bekannt. Nun tritt sie zum ersten Mal im Duett mit Christiane Hanna
  Luft hier auf.\n\nAktuelle Informationen zur Durchführung der Veranstalt
 ung geben wir zeitnah auf unserer Webseite www.quohrener-leben.de bekannt.
 \nWegen der vermutlich immer noch geltenden Abstandsregeln und dadurch beg
 renzten Anzahl der Sitzplätze\, bitten wir vom Kartenvorverkauf oder der 
 Kartenreservierung Gebrauch zu machen.\n\nText: Fröken Schultze\n\nKarten
 reservierung unter E-Mail: reservierung@quohrener-leben.de\noder bei Fam. 
 Knepper Tel.: 035206-21512\n\nKartenvorverkauf: Bürgerstiftung Kreischa\,
  Haußmannplatz 5\nEintritt: 14 €\, 12 € ermäßigt (Vereinsmitglieder
 \, Auszubildende\, Studenten)\, 6 € Schüler ab 12 J.\n\nWir freuen uns 
 auf ihren Besuch.\nUrsula Knepper\nQuohrener Leben e.V.
CATEGORIES:Konzerte/Ausstellung,Vereinsaktivität
LOCATION:Orth'sches Gut\, Talstr. 30\, Kreischa\, Sachsen\, 01731\, Deutsch
 land
GEO:50.94738;13.728160000000003
X-APPLE-STRUCTURED-LOCATION;VALUE=URI;X-ADDRESS=Talstr. 30\, Kreischa\, Sac
 hsen\, 01731\, Deutschland;X-APPLE-RADIUS=100;X-TITLE=Orth'sches Gut:geo:5
 0.94738,13.728160000000003
END:VEVENT
BEGIN:VTIMEZONE
TZID:Europe/Berlin
X-LIC-LOCATION:Europe/Berlin
BEGIN:DAYLIGHT
DTSTART:20210328T030000
TZOFFSETFROM:+0100
TZOFFSETTO:+0200
TZNAME:CEST
END:DAYLIGHT
END:VTIMEZONE
END:VCALENDAR