BEGIN:VCALENDAR
VERSION:2.0
PRODID:-//wp-events-plugin.com//7.2.3.1//EN
TZID:Europe/Berlin
X-WR-TIMEZONE:Europe/Berlin
BEGIN:VEVENT
UID:228@quohrener-leben.de
DTSTART;TZID=Europe/Berlin;VALUE=DATE:20230624
DTEND;TZID=Europe/Berlin;VALUE=DATE:20230626
DTSTAMP:20230611T082205Z
URL:https://quohrener-leben.de/events/29-quohrener-dorffest/
SUMMARY:29. Quohrener Dorffest
DESCRIPTION:wann: 24.06./25.06.2023\nwo: ehemaliger Sportplatz Kipsenstr.\n
 Samstag\, 24.06.\n\n\n\n15:00 Uhr\nEröffnung mit Musik  Vielfältige An
 gebote für Kinder *\n\n\n15:30 Uhr\nAuftritt "Die Bläserkids" der  Mus
 ikschule Bannewitz\n\n\nab 16:30 Uhr\n Breakdance Tanzgruppe der Musiksc
 hule Bannewitz\n\n\nab 18:00 Uhr\nKinderdisko\n\n\nab 21:00 Uhr\nDisco mit
  DJ Thomas\n\n\n23:57 Uhr\nMitternachtsüberraschung\n\n\n\nSonntag\, 25.0
 6.\n\n\n\n11:30 Uhr\nStart mit Musik\n\n\nab 12:00 Uhr\nEssen aus der Feld
 küche\n\n\n14:00 Uhr\nVogelschießen\n\n\n\n\n\n\n\nNeu dieses Jahr - „
 Die Bierrutsche“\nStelle dein Geschick auf die Probe und rutsche zum Fre
 ibier.\nEntenrennen im Quohrener Bach\nWelche Ente wird siegen - Mozart\, 
 der Surfer oder etwa doch der Arzt? Wähle deine Ente und finde es herau
 s!\nDas Entenrennen findet an beiden Tagen mehrmals im Laufe des Dorffests
  statt.\n\nAm gesamten Wochenende wird für das leibliche Wohl mit unserer
  Feldküche und anderen Leckereien gesorgt! Den Durst können Sie bei eine
 m kühlen Bier oder leckeren Cocktail stillen!\n\n*Wir heißen alle Gäste
  an Kletterstange\, Korbflechten\, Bierrutsche\, Bastelstand und weitern A
 ngeboten willkommen.\n\n&gt\;&gt\; Flyer zum Dorffest als PDF herunterlade
 n\n\n
CATEGORIES:Dorffest,Vereinsaktivität
LOCATION:Alter Sportplatz Quohren\, Kipsenstr 2a\, Quohren\, 01731\, Deutsc
 hland
GEO:50.9457;13.731780000000072
X-APPLE-STRUCTURED-LOCATION;VALUE=URI;X-ADDRESS=Kipsenstr 2a\, Quohren\, 01
 731\, Deutschland;X-APPLE-RADIUS=100;X-TITLE=Alter Sportplatz Quohren:geo:
 50.9457,13.731780000000072
END:VEVENT
BEGIN:VTIMEZONE
TZID:Europe/Berlin
X-LIC-LOCATION:Europe/Berlin
BEGIN:DAYLIGHT
DTSTART:20230326T030000
TZOFFSETFROM:+0100
TZOFFSETTO:+0200
TZNAME:CEST
END:DAYLIGHT
END:VTIMEZONE
END:VCALENDAR