BEGIN:VCALENDAR
VERSION:2.0
PRODID:-//wp-events-plugin.com//7.2.3.1//EN
TZID:Europe/Berlin
X-WR-TIMEZONE:Europe/Berlin
BEGIN:VEVENT
UID:152@quohrener-leben.de
DTSTART;TZID=Europe/Berlin;VALUE=DATE:20190629
DTEND;TZID=Europe/Berlin;VALUE=DATE:20190701
DTSTAMP:20190629T110247Z
URL:https://quohrener-leben.de/events/27-quohrener-dorffest-2019/
SUMMARY:27. Quohrener Dorffest 2019
DESCRIPTION:Wo: Sportplatz (Kipsenstraße)\nWann: 29.06.-30.06.2019\nSamsta
 g 29.06.2019\n\n\n\n15:00 Uhr\nEröffnung mit Musik  Vielfältige Angebo
 te für Kinder*\n\n\n15:30 Uhr\nAuftritt Lungkwitzer Tanzmäuse\n\n\n16:00
  Uhr\nMeister Klecks und Spaßimir\n\n\n18:30 Uhr\nLive Band „Boomerang
 “ und in den Pausen Auftritt „Dance Crew“ Glashütte\n\n\n21:00 Uhr\
 nDisco mit DJ Thomas und Kai\n\n\n23:57 Uhr\nMitternachtsüberraschung\n\n
 \n\nUnsere kleinen Gäste heißen wir zu Fahrten mit der Eselkutsche\, Kle
 tterstange\, Gestalten mit Ton\, sowie Hau den Lukas willkommen.\nTombola 
 für Groß und Klein\nSamstag ab 15:00 Uhr\n\n&nbsp\;\nSonntag 30.06.2019\
 n\n\n\n11:30 Uhr\nStart mit Musik\n\n\n12:00 Uhr\nEssen aus der Feldküche
 \n\n\nab 14:00 Uhr\nVogelschießen\n\n\n\nDie kleinen Gäste heißen wir a
 n der Holzrappelkiste (Kinderholzwerstatt)\, ENSO-Hüpfburg\, Gestalten 
  mit Ton\, Eselreiten willkommen.\nEntenrennen im Quohrener Bach\nWelche E
 nte wird siegen - Mozart\, der Surfer oder etwa doch der Arzt?  Wähle d
 eine Ente und finde es heraus!\nSamstag und Sonntag\, ab 15:00 Uhr\n\nAm g
 esamten Wochenende wird für das leibliche Wohl mit unserer Feldküche und
  anderen Leckereien gesorgt!\nDen Durst können Sie bei einem kühlen Bier
  oder leckeren Cocktail stillen!\nSponsoren 2019\nDie Nennung der Sponsore
 n erfolgt in alphabetischer Reihenfolgen.\n\n\nApotheke am Wilisch\nLungkw
 itzer Str. 10\n01731 Kreischa\nZur Webseite\n\nBaumschule Kreiser\nLockwit
 zer Straße 4\n01731 Kreischa OT Gombsen\n\n\n\nBäckerei Hiekel\nHauptstr
 . 35\n01731 Kreischa\n\n\nBäckerei Krause\nRosenstraße 1\n01731 Kreischa
 \n\n\nBürgerstiftung Kreischa\nHaußmannplatz 5\n01731 Kreischa\n\nCafé 
 Lehmann\nHaußmannplatz 6\n01069 Dresden\nZur Webseite\n\n\ncasonex GmbH\n
 Strehlener Str. 14\n01069 Dresden\n\n\n\nDometa\nZschiedger Weg 2\n01705 F
 reital\n\n\n\nEiscafé Kreischa\nDresdner Straße 13\n01731 Kreischa\n\n\n
 Elektrotechnik Thomas Schwartz\nTalstraße 17\n01731 Kreischa\n\n\n\nElekt
 rohaus Oertel/"Das Besondere"\nQuerstraße 2\n01731 Kreischa\nZur Webseite
 \n\nEMS Electric Meisterservice\nBaumschulenstr. 24\n01731 Kreischa\n\n\n\
 nFahrradmarkt Kreischa\nHauptstr. 8\n01731 Kreischa\nZur Webseite\n\n\nFri
 seursalon Karin Brenke\nHaußmannplatz 7\n01731 Kreischa\n\nFundgrube\nKas
 tanienallee 2\n01728 Possendorf\n\nGärtnerei Hofmann\nHauptstraße 11\n01
 728 Possendor\n\n\n\nHaushalts- und Geschenkartikel Juraske\nHauptstr. 1\n
 01731 Kreischa\n\nHeiko Pietzsch\nBauunternehmen\nSchulweg 7\n01731 Kreisc
 ha OT Quohren\n\n\n\nHornbach\n\n\n\nJ+P Maschinenbau GmbH\nAm Berg 2\n017
 31 Kreischa-Sobrigau\n\n\nKosmetiksalon Eva\nHauptstr. 22\n01731 Kreischa\
 n\nLandhotel Kräuterberg'l\nRosenstraße 31\n01731 Kreischa\n\n\nMalerser
 vice Steffen Stiller\nTalstr.\n01731 Kreischa\n\n\n\nMobau Müller Baustof
 fkontor GmbH\nDresdner Str. 12\n01728 Bannewitz \n\n\n\nOBI\n\n\n\nSport-&
 amp\; Physiotherapie Frenzel\nAm Mühlgraben 5\n01731 Kreischa\nZur Websei
 te\n\nSalon LA BEAUTÉ\nHaußmannplatz 4\n01731 Kreischa\n\n\nS&amp\;W Mot
 oshop GmbH\nBruno Philipp Str. 1c\n01728 Bannewitz OT Hänichen\n\n\nSenio
 renzentrum AGO\nDresdner Straße 4 – 6\n01731 Kreischa\n\n\nThomas Schul
 ze Dachdeckermeister\nDorfstr. 70\n01731 Kreischa\n\n\n\nTischlerei Thiele
  GmbH\nCoschützer Str. 89\n01705 Freital \n\n\n\nVolksbank Dresden Bautze
 n eG\nGeorgenstraße 6\n01097 Dresden\n\n\nZirnis Fahrschule\nHauptstraße
  15\n01728 Bannewitz\nZur Webseite\n\n\n\n\n\n
CATEGORIES:Dorffest
LOCATION:Alter Sportplatz Quohren\, Kipsenstr 2a\, Quohren\, 01731\, Deutsc
 hland
GEO:50.9457;13.731780000000072
X-APPLE-STRUCTURED-LOCATION;VALUE=URI;X-ADDRESS=Kipsenstr 2a\, Quohren\, 01
 731\, Deutschland;X-APPLE-RADIUS=100;X-TITLE=Alter Sportplatz Quohren:geo:
 50.9457,13.731780000000072
END:VEVENT
BEGIN:VTIMEZONE
TZID:Europe/Berlin
X-LIC-LOCATION:Europe/Berlin
BEGIN:DAYLIGHT
DTSTART:20190331T030000
TZOFFSETFROM:+0100
TZOFFSETTO:+0200
TZNAME:CEST
END:DAYLIGHT
END:VTIMEZONE
END:VCALENDAR