BEGIN:VCALENDAR
VERSION:2.0
PRODID:-//wp-events-plugin.com//7.2.3.1//EN
TZID:Europe/Berlin
X-WR-TIMEZONE:Europe/Berlin
BEGIN:VEVENT
UID:175@quohrener-leben.de
DTSTART;TZID=Europe/Berlin:20190510T193000
DTEND;TZID=Europe/Berlin:20190510T210000
DTSTAMP:20190507T044120Z
URL:https://quohrener-leben.de/events/2-vorbereitungstreff-zum-quohrener-d
 orffest-2019/
SUMMARY:2. Vorbereitungstreff zum Quohrener Dorffest 2019
DESCRIPTION:Wir laden alle Quohrener recht Herzlich zum 2. Vorbereitungstre
 ff für das 27. Quohrener Dorffest ein.\n\nWann: 10.05.2019 ab 19:30Uh\nWo
 : Alte Turnhalle auf dem Sportplatz
LOCATION:Alter Sportplatz Quohren\, Kipsenstr 2a\, Quohren\, 01731\, Deutsc
 hland
GEO:50.9457;13.731780000000072
X-APPLE-STRUCTURED-LOCATION;VALUE=URI;X-ADDRESS=Kipsenstr 2a\, Quohren\, 01
 731\, Deutschland;X-APPLE-RADIUS=100;X-TITLE=Alter Sportplatz Quohren:geo:
 50.9457,13.731780000000072
END:VEVENT
BEGIN:VTIMEZONE
TZID:Europe/Berlin
X-LIC-LOCATION:Europe/Berlin
BEGIN:DAYLIGHT
DTSTART:20190331T030000
TZOFFSETFROM:+0100
TZOFFSETTO:+0200
TZNAME:CEST
END:DAYLIGHT
END:VTIMEZONE
END:VCALENDAR